BEGIN:VCALENDAR
VERSION:2.0
METHOD:PUBLISH
PRODID:-//Accessible Web Design//My Calendar//http://www.joedolson.com//v//EN';
BEGIN:VEVENT
UID:604-593
LOCATION:
SUMMARY:Brno
DTSTAMP:20260213T200000
ORGANIZER;CN=Pavel Ubrankowicz:MAILTO:pr@rozkosbezrizika.cz
DTSTART:20260213T200000
DTEND:20260213T220000
CATEGORIES:Testování HIV
URL;VALUE=URI:
DESCRIPTION;ENCODING=QUOTED-PRINTABLE: 
END:VEVENT
END:VCALENDAR