BEGIN:VCALENDAR
VERSION:2.0
METHOD:PUBLISH
PRODID:-//Accessible Web Design//My Calendar//http://www.joedolson.com//v//EN';
BEGIN:VEVENT
UID:578-569
LOCATION:
SUMMARY:České Budějovice
DTSTAMP:20260106T160000
ORGANIZER;CN=Pavel Ubrankowicz:MAILTO:pr@rozkosbezrizika.cz
DTSTART:20260106T160000
DTEND:20260106T180000
CATEGORIES:Testování HIV
URL;VALUE=URI:
DESCRIPTION;ENCODING=QUOTED-PRINTABLE: 
END:VEVENT
END:VCALENDAR