BEGIN:VCALENDAR
VERSION:2.0
METHOD:PUBLISH
PRODID:-//Accessible Web Design//My Calendar//http://www.joedolson.com//v//EN';
BEGIN:VEVENT
UID:575-566
LOCATION:
SUMMARY:Ostrava
DTSTAMP:20260112T150000
ORGANIZER;CN=Pavel Ubrankowicz:MAILTO:pr@rozkosbezrizika.cz
DTSTART:20260112T150000
DTEND:20260112T160000
CATEGORIES:Testování HIV
URL;VALUE=URI:
DESCRIPTION;ENCODING=QUOTED-PRINTABLE: 
END:VEVENT
END:VCALENDAR