BEGIN:VCALENDAR
VERSION:2.0
METHOD:PUBLISH
PRODID:-//Accessible Web Design//My Calendar//http://www.joedolson.com//v//EN';
BEGIN:VEVENT
UID:566-557
LOCATION:
SUMMARY:Havlíčkův Brod
DTSTAMP:20251203T160000
ORGANIZER;CN=Pavel Ubrankowicz:MAILTO:pr@rozkosbezrizika.cz
DTSTART:20251203T160000
DTEND:20251203T190000
CATEGORIES:Testování HIV
URL;VALUE=URI:
DESCRIPTION;ENCODING=QUOTED-PRINTABLE: 
END:VEVENT
END:VCALENDAR